BEGIN:VCALENDAR
VERSION:2.0
PRODID:-//Rösch Unternehmensberatung - ECPv6.15.18//NONSGML v1.0//EN
CALSCALE:GREGORIAN
METHOD:PUBLISH
X-WR-CALNAME:Rösch Unternehmensberatung
X-ORIGINAL-URL:https://roesch-unternehmensberatung.de
X-WR-CALDESC:Veranstaltungen für Rösch Unternehmensberatung
REFRESH-INTERVAL;VALUE=DURATION:PT1H
X-Robots-Tag:noindex
X-PUBLISHED-TTL:PT1H
BEGIN:VTIMEZONE
TZID:Europe/Berlin
BEGIN:DAYLIGHT
TZOFFSETFROM:+0100
TZOFFSETTO:+0200
TZNAME:CEST
DTSTART:20160327T010000
END:DAYLIGHT
BEGIN:STANDARD
TZOFFSETFROM:+0200
TZOFFSETTO:+0100
TZNAME:CET
DTSTART:20161030T010000
END:STANDARD
BEGIN:DAYLIGHT
TZOFFSETFROM:+0100
TZOFFSETTO:+0200
TZNAME:CEST
DTSTART:20170326T010000
END:DAYLIGHT
BEGIN:STANDARD
TZOFFSETFROM:+0200
TZOFFSETTO:+0100
TZNAME:CET
DTSTART:20171029T010000
END:STANDARD
BEGIN:DAYLIGHT
TZOFFSETFROM:+0100
TZOFFSETTO:+0200
TZNAME:CEST
DTSTART:20180325T010000
END:DAYLIGHT
BEGIN:STANDARD
TZOFFSETFROM:+0200
TZOFFSETTO:+0100
TZNAME:CET
DTSTART:20181028T010000
END:STANDARD
END:VTIMEZONE
BEGIN:VEVENT
DTSTART;TZID=Europe/Berlin:20170601T113000
DTEND;TZID=Europe/Berlin:20170601T220000
DTSTAMP:20260425T223349
CREATED:20161024T114508Z
LAST-MODIFIED:20161024T114508Z
UID:1030-1496316600-1496354400@roesch-unternehmensberatung.de
SUMMARY:Tag der Deutschen Bauindustrie 2017
DESCRIPTION:Am Donnerstag\, 1. Juni 2017 finden die Mitgliederversammlung (nur für Mitglieder)\, ab ca. 11:30 Uhr die Öffentliche Vortragsveranstaltung und anschließend die Abendveranstaltung statt.
URL:https://roesch-unternehmensberatung.de/event/tag-der-deutschen-bauindustrie-2017/
LOCATION:STATION-Berlin\, Luckenwalder Straße 4–6\, Berlin\, 10963\, Deutschland
CATEGORIES:Termine
END:VEVENT
END:VCALENDAR