BEGIN:VCALENDAR
VERSION:2.0
PRODID:-//Rösch Unternehmensberatung - ECPv6.15.18//NONSGML v1.0//EN
CALSCALE:GREGORIAN
METHOD:PUBLISH
X-WR-CALNAME:Rösch Unternehmensberatung
X-ORIGINAL-URL:https://roesch-unternehmensberatung.de
X-WR-CALDESC:Veranstaltungen für Rösch Unternehmensberatung
REFRESH-INTERVAL;VALUE=DURATION:PT1H
X-Robots-Tag:noindex
X-PUBLISHED-TTL:PT1H
BEGIN:VTIMEZONE
TZID:Europe/Berlin
BEGIN:DAYLIGHT
TZOFFSETFROM:+0100
TZOFFSETTO:+0200
TZNAME:CEST
DTSTART:20250330T010000
END:DAYLIGHT
BEGIN:STANDARD
TZOFFSETFROM:+0200
TZOFFSETTO:+0100
TZNAME:CET
DTSTART:20251026T010000
END:STANDARD
BEGIN:DAYLIGHT
TZOFFSETFROM:+0100
TZOFFSETTO:+0200
TZNAME:CEST
DTSTART:20260329T010000
END:DAYLIGHT
BEGIN:STANDARD
TZOFFSETFROM:+0200
TZOFFSETTO:+0100
TZNAME:CET
DTSTART:20261025T010000
END:STANDARD
BEGIN:DAYLIGHT
TZOFFSETFROM:+0100
TZOFFSETTO:+0200
TZNAME:CEST
DTSTART:20270328T010000
END:DAYLIGHT
BEGIN:STANDARD
TZOFFSETFROM:+0200
TZOFFSETTO:+0100
TZNAME:CET
DTSTART:20271031T010000
END:STANDARD
END:VTIMEZONE
BEGIN:VEVENT
DTSTART;VALUE=DATE:20260324
DTEND;VALUE=DATE:20260327
DTSTAMP:20260425T140445
CREATED:20240521T123811Z
LAST-MODIFIED:20240521T123811Z
UID:4717-1774310400-1774569599@roesch-unternehmensberatung.de
SUMMARY:digitalBAU 2026
DESCRIPTION:Erleben Sie auf der digitalBAU\, was die Zukunft des Bauens zu bieten hat.\nDie digitalBAU findet 2026 vom 24. – 26. März 2026 auf dem Messegelände Köln statt – 2026 im neu erbauten Confex der Messe Köln und in Halle 2.\nAb Herbst 2024 steht die Ausstelleronlineanmeldung zur Verfügung.
URL:https://roesch-unternehmensberatung.de/event/digitalbau-2026/
LOCATION:Messe Köln\, Messeplatz 1\, Köln\, 50679\, Deutschland
CATEGORIES:Messe
ATTACH;FMTTYPE=image/jpeg:https://roesch-unternehmensberatung.de/wp-content/uploads/2017/06/Unternehmensberatung-Roesch-Binaer.jpg
END:VEVENT
END:VCALENDAR