BEGIN:VCALENDAR
VERSION:2.0
PRODID:-//Rösch Unternehmensberatung - ECPv6.15.18//NONSGML v1.0//EN
CALSCALE:GREGORIAN
METHOD:PUBLISH
X-WR-CALNAME:Rösch Unternehmensberatung
X-ORIGINAL-URL:https://roesch-unternehmensberatung.de
X-WR-CALDESC:Veranstaltungen für Rösch Unternehmensberatung
REFRESH-INTERVAL;VALUE=DURATION:PT1H
X-Robots-Tag:noindex
X-PUBLISHED-TTL:PT1H
BEGIN:VTIMEZONE
TZID:Europe/Berlin
BEGIN:DAYLIGHT
TZOFFSETFROM:+0100
TZOFFSETTO:+0200
TZNAME:CEST
DTSTART:20250330T010000
END:DAYLIGHT
BEGIN:STANDARD
TZOFFSETFROM:+0200
TZOFFSETTO:+0100
TZNAME:CET
DTSTART:20251026T010000
END:STANDARD
BEGIN:DAYLIGHT
TZOFFSETFROM:+0100
TZOFFSETTO:+0200
TZNAME:CEST
DTSTART:20260329T010000
END:DAYLIGHT
BEGIN:STANDARD
TZOFFSETFROM:+0200
TZOFFSETTO:+0100
TZNAME:CET
DTSTART:20261025T010000
END:STANDARD
BEGIN:DAYLIGHT
TZOFFSETFROM:+0100
TZOFFSETTO:+0200
TZNAME:CEST
DTSTART:20270328T010000
END:DAYLIGHT
BEGIN:STANDARD
TZOFFSETFROM:+0200
TZOFFSETTO:+0100
TZNAME:CET
DTSTART:20271031T010000
END:STANDARD
END:VTIMEZONE
BEGIN:VEVENT
DTSTART;VALUE=DATE:20261124
DTEND;VALUE=DATE:20261126
DTSTAMP:20260425T154946
CREATED:20260224T161829Z
LAST-MODIFIED:20260224T161829Z
UID:5365-1795478400-1795651199@roesch-unternehmensberatung.de
SUMMARY:BIM World MUNICH 2026
DESCRIPTION:Seit 2016 ist die BIM World MUNICH das internationale Event für die Digitalisierung der Bau-\, Immobilien- und Facility-Management-Branche. Die BIM World Munich 2026 findet vom 24. – 25. November 2026 im ICM Internationales Congress Center München auf dem Münchener Messegelände statt.
URL:https://roesch-unternehmensberatung.de/event/bim-world-munich-2026/
LOCATION:ICM Internationales Congress Center München\, Messegelände\, München\, 81823\, Deutschland
CATEGORIES:Messe
ATTACH;FMTTYPE=image/jpeg:https://roesch-unternehmensberatung.de/wp-content/uploads/2024/03/Unternehmensberatung-Roesch-BIM-Baukloetze-Termine.jpg
ORGANIZER;CN="RM Rudolf M%C3%BCller Events GmbH":MAILTO:info@bim-world.de
END:VEVENT
END:VCALENDAR