BEGIN:VCALENDAR
VERSION:2.0
PRODID:-//Rösch Unternehmensberatung - ECPv6.15.18//NONSGML v1.0//EN
CALSCALE:GREGORIAN
METHOD:PUBLISH
X-WR-CALNAME:Rösch Unternehmensberatung
X-ORIGINAL-URL:https://roesch-unternehmensberatung.de
X-WR-CALDESC:Veranstaltungen für Rösch Unternehmensberatung
REFRESH-INTERVAL;VALUE=DURATION:PT1H
X-Robots-Tag:noindex
X-PUBLISHED-TTL:PT1H
BEGIN:VTIMEZONE
TZID:Europe/Berlin
BEGIN:DAYLIGHT
TZOFFSETFROM:+0100
TZOFFSETTO:+0200
TZNAME:CEST
DTSTART:20240331T010000
END:DAYLIGHT
BEGIN:STANDARD
TZOFFSETFROM:+0200
TZOFFSETTO:+0100
TZNAME:CET
DTSTART:20241027T010000
END:STANDARD
BEGIN:DAYLIGHT
TZOFFSETFROM:+0100
TZOFFSETTO:+0200
TZNAME:CEST
DTSTART:20250330T010000
END:DAYLIGHT
BEGIN:STANDARD
TZOFFSETFROM:+0200
TZOFFSETTO:+0100
TZNAME:CET
DTSTART:20251026T010000
END:STANDARD
BEGIN:DAYLIGHT
TZOFFSETFROM:+0100
TZOFFSETTO:+0200
TZNAME:CEST
DTSTART:20260329T010000
END:DAYLIGHT
BEGIN:STANDARD
TZOFFSETFROM:+0200
TZOFFSETTO:+0100
TZNAME:CET
DTSTART:20261025T010000
END:STANDARD
END:VTIMEZONE
BEGIN:VEVENT
DTSTART;TZID=Europe/Berlin:20250603T160000
DTEND;TZID=Europe/Berlin:20250603T170000
DTSTAMP:20260425T171027
CREATED:20250526T161023Z
LAST-MODIFIED:20250526T170413Z
UID:4939-1748966400-1748970000@roesch-unternehmensberatung.de
SUMMARY:Bauleiter entlasten\, Bauleiter halten
DESCRIPTION:Gute Bauleiterinnen und Bauleiter zu finden ist schwer. Sie zu halten\, noch viel schwerer.\nKostenloses Webinar von bps software GmbH & Co. KG und Rösch Unternehmensberatung. \nBauleiterinnen und Bauleiter sind oft überlastet – zu viele Aufgaben\, zu wenig Unterstützung. Die Folge: Frust\, Fehler\, Kündigungen. Dabei sind sie die Leistungsträger jedes Bauunternehmens. \nDas wiederum verschärft den Fachkräftemangel. Denn eigentlich können Bauunternehmen es sich nicht leisten\, ihre wichtigsten Leute zu verlieren. Deshalb ist es wichtig\, die Arbeitslast der Bauleitung zu reduzieren – damit sie gerne ins Unternehmen kommen und auch bleiben. \nIm kostenlosen Online-Seminar zeigen wir Ihnen\, wie Sie Ihre Bauleiterinnen und Bauleiter systematisch entlasten und langfristig binden. \nHier können Sie sich anmelden. \nWir freuen uns auf Sie!
URL:https://roesch-unternehmensberatung.de/event/bauleiter-entlasten-bauleiter-halten/
LOCATION:Webinar
CATEGORIES:Workshop
ATTACH;FMTTYPE=image/jpeg:https://roesch-unternehmensberatung.de/wp-content/uploads/2025/05/Ingenieurin_IMG1176_Julian_Schulz-700x350-bpsroesch.jpg
END:VEVENT
END:VCALENDAR